BEGIN:VCALENDAR
VERSION:2.0
PRODID:-// - ECPv6.15.20//NONSGML v1.0//EN
CALSCALE:GREGORIAN
METHOD:PUBLISH
X-ORIGINAL-URL:https://www.talentq.es/es_es
X-WR-CALDESC:Eventos para 
REFRESH-INTERVAL;VALUE=DURATION:PT1H
X-Robots-Tag:noindex
X-PUBLISHED-TTL:PT1H
BEGIN:VTIMEZONE
TZID:Europe/Madrid
BEGIN:DAYLIGHT
TZOFFSETFROM:+0100
TZOFFSETTO:+0200
TZNAME:CEST
DTSTART:20240331T010000
END:DAYLIGHT
BEGIN:STANDARD
TZOFFSETFROM:+0200
TZOFFSETTO:+0100
TZNAME:CET
DTSTART:20241027T010000
END:STANDARD
BEGIN:DAYLIGHT
TZOFFSETFROM:+0100
TZOFFSETTO:+0200
TZNAME:CEST
DTSTART:20250330T010000
END:DAYLIGHT
BEGIN:STANDARD
TZOFFSETFROM:+0200
TZOFFSETTO:+0100
TZNAME:CET
DTSTART:20251026T010000
END:STANDARD
BEGIN:DAYLIGHT
TZOFFSETFROM:+0100
TZOFFSETTO:+0200
TZNAME:CEST
DTSTART:20260329T010000
END:DAYLIGHT
BEGIN:STANDARD
TZOFFSETFROM:+0200
TZOFFSETTO:+0100
TZNAME:CET
DTSTART:20261025T010000
END:STANDARD
END:VTIMEZONE
BEGIN:VEVENT
DTSTART;TZID=Europe/Madrid:20250226T110000
DTEND;TZID=Europe/Madrid:20250226T123000
DTSTAMP:20260422T073659
CREATED:20250220T113624Z
LAST-MODIFIED:20250220T113624Z
UID:1335-1740567600-1740573000@www.talentq.es
SUMMARY:Jornadas sobre el Año Internacional de la Cuántica
DESCRIPTION:Con motivo de la celebración del Año Internacional de la Ciencia y la Tecnología Cuántica (IYQ2025\, https://quantum2025.org/es/) la Universidad de Sevilla organizará un ciclo de conferencias conmemorativas (Jornadas IYQ2025-US) enfocadas en la Mecánica Cuántica y sus aplicaciones. Estas jornadas tienen por objeto poner de relieve la importancia de la ciencia cuántica en el desarrollo tecnológico actual y futuro\, abarcando áreas como la astrofísica\, la tecnología nuclear\, los nuevos materiales\, la química\, la computación\, la electrónica\, las comunicaciones\, la biología y las matemáticas\, entre otras. \nLas jornadas se extenderán a lo largo del año 2025\, y contarán con un total de 16 charlas\, dirigidas principalmente a estudiantes\, profesorado\, investigadores y el público interesado en la cultura científica. Entre los ponentes se encuentran investigadores de reconocido prestigio en alguno de los campos relacionado con la Ciencia y la Tecnología Cuántica\, entre los que se incluyen José Manuel Sánchez Ron (Universidad Autónoma de Madrid)\, Alba Cervera-Lierta (Barcelona Supercomputing Center)\, Cécilia Lancien (Institut Fourier\, CNRS\, Grenoble)\, Enrique Solano (CEO de Kipu Quantum)\, Alfonso Tello (Hispasat Madrid) e Irene Valenzuela (CERN)\, entre otros. \nLas charlas se impartirán en el campus de Reina Mercedes (Facultades de Física\, de Química y de Matemáticas) y el campus de Cartuja (ETSi). El acto inaugural tendrá lugar en el Paraninfo de la US el 26 de febrero de 2025 a las 11:00 de la mañana. \nProgramación del curso 2024/25: \nPara más información sobre las distintas charlas\, pinchad sobre su título. \n  \n26 de febrero: Jornada inaugural: La revolución de la twistrónica y los materiales moiré \nLeni Bascones (ICM Madrid\, CSIC) \nParaninfo de la Universidad\, 11:00 \n  \nPróximas: \n20 de marzo: \nGustavo Romero (Univ. La Plata) \nFacultad de Física\, 18:00 \n  \n3 de abril: \nAlfonso Tello (HISPASAT) \nEsc. Tec. Sup. Ingeniería\, 11:00 \n  \n25 de abril: \nJordi José (UPC) y Alfredo Poves (UAM) \nFacultad de Física\, 17:00 \n  \n28 de abril: \nManuel Fernández (TELNATOM) \nEsc. Tec. Sup. de Ingeniería\, 12:00 \n  \n14 de mayo: \nAlba Cervera-Lierta (Centro de Supercomputación de Barcelona) \nEsc. Tec. Sup. de Ingeniería\, 12:00
URL:https://www.talentq.es/es_es/evento/jornadas-sobre-el-ano-internacional-de-la-cuantica/
ATTACH;FMTTYPE=image/png:https://www.talentq.es/wp-content/uploads/2025/02/IYQ2025_cartel_16_9_LBascones.png
END:VEVENT
END:VCALENDAR